BEGIN:VCALENDAR
VERSION:2.0
PRODID:-//ZContent.net//ZapCalLib 1.0//EN
CALSCALE:GREGORIAN
METHOD:PUBLISH
BEGIN:VEVENT
UID:69e5e8c5ac9dc@usbands.org
SUMMARY:Egg Harbor Township High School
DTSTART:20241019T150000
DTEND:20241019T190000
DTSTAMP:20260420T085013
LOCATION:Egg Harbor Township\, NJ
DESCRIPTION:Egg Harbor Township High School
END:VEVENT
END:VCALENDAR
