BEGIN:VCALENDAR
VERSION:2.0
PRODID:-//ZContent.net//ZapCalLib 1.0//EN
CALSCALE:GREGORIAN
METHOD:PUBLISH
BEGIN:VEVENT
UID:69e5fbb3a7c62@usbands.org
SUMMARY:Hillsborough High School
DTSTART:20241019T120000
DTEND:20241019T200000
DTSTAMP:20260420T101059
LOCATION:Hillsborough Township\, NJ
DESCRIPTION:Hillsborough High School
END:VEVENT
END:VCALENDAR
