BEGIN:VCALENDAR
VERSION:2.0
PRODID:-//ZContent.net//ZapCalLib 1.0//EN
CALSCALE:GREGORIAN
METHOD:PUBLISH
BEGIN:VEVENT
UID:69e5e51a3d90d@usbands.org
SUMMARY:Robbinsville High School
DTSTART:20241019T120000
DTEND:20241019T200000
DTSTAMP:20260420T083434
LOCATION:Robbinsville Township\, NJ
DESCRIPTION:Robbinsville High School
END:VEVENT
END:VCALENDAR
