BEGIN:VCALENDAR
VERSION:2.0
PRODID:-//ZContent.net//ZapCalLib 1.0//EN
CALSCALE:GREGORIAN
METHOD:PUBLISH
BEGIN:VEVENT
UID:69e5e89cb91a4@usbands.org
SUMMARY:Vernon Township High School
DTSTART:20241019T103000
DTEND:20241019T200000
DTSTAMP:20260420T084932
LOCATION:Vernon Township\, NJ
DESCRIPTION:Vernon Township High School
END:VEVENT
END:VCALENDAR
