BEGIN:VCALENDAR
VERSION:2.0
PRODID:-//ZContent.net//ZapCalLib 1.0//EN
CALSCALE:GREGORIAN
METHOD:PUBLISH
BEGIN:VEVENT
UID:69e5e519d8599@usbands.org
SUMMARY:Ridge High School
DTSTART:20241019T120000
DTEND:20241019T200000
DTSTAMP:20260420T083433
LOCATION:Bernards\, NJ
DESCRIPTION:Ridge High School
END:VEVENT
END:VCALENDAR
