BEGIN:VCALENDAR
VERSION:2.0
PRODID:-//ZContent.net//ZapCalLib 1.0//EN
CALSCALE:GREGORIAN
METHOD:PUBLISH
BEGIN:VEVENT
UID:69e5e8c14d36d@usbands.org
SUMMARY:Upper Dublin High School
DTSTART:20241019T143000
DTEND:20241019T200000
DTSTAMP:20260420T085009
LOCATION:Fort Washington\, PA
DESCRIPTION:Upper Dublin High School
END:VEVENT
END:VCALENDAR
