BEGIN:VCALENDAR
VERSION:2.0
PRODID:-//ZContent.net//ZapCalLib 1.0//EN
CALSCALE:GREGORIAN
METHOD:PUBLISH
BEGIN:VEVENT
UID:69e88f566bb82@usbands.org
SUMMARY:Dartmouth High School
DTSTART:20241019T150000
DTEND:20241019T200000
DTSTAMP:20260422T090526
LOCATION:Dartmouth\, MA
DESCRIPTION:Dartmouth High School
END:VEVENT
END:VCALENDAR
