BEGIN:VCALENDAR
VERSION:2.0
PRODID:-//ZContent.net//ZapCalLib 1.0//EN
CALSCALE:GREGORIAN
METHOD:PUBLISH
BEGIN:VEVENT
UID:69e5e89baf56b@usbands.org
SUMMARY:Pennsylvania State Championships (I A\, II A\, IV A\, I O\, IV O\, 
 V O)
DTSTART:20241019T090000
DTEND:20241019T190000
DTSTAMP:20260420T084931
LOCATION:Downingtown\, PA
DESCRIPTION:Pennsylvania State Championships (I A\, II A\, IV A\, I O\, IV 
 O\, V O)
END:VEVENT
END:VCALENDAR
