BEGIN:VCALENDAR
VERSION:2.0
PRODID:-//ZContent.net//ZapCalLib 1.0//EN
CALSCALE:GREGORIAN
METHOD:PUBLISH
BEGIN:VEVENT
UID:69e5e89c08460@usbands.org
SUMMARY:Ark-La-Miss Regional
DTSTART:20241012T123000
DTEND:20241012T150100
DTSTAMP:20260420T084932
LOCATION:West Monroe\, LA
DESCRIPTION:Ark-La-Miss Regional
END:VEVENT
END:VCALENDAR
