BEGIN:VCALENDAR
VERSION:2.0
PRODID:-//ZContent.net//ZapCalLib 1.0//EN
CALSCALE:GREGORIAN
METHOD:PUBLISH
BEGIN:VEVENT
UID:69e5e517e2292@usbands.org
SUMMARY:Northern Highlands Regional High School
DTSTART:20241013T120000
DTEND:20241013T150100
DTSTAMP:20260420T083431
LOCATION:Allendale\, NJ
DESCRIPTION:Northern Highlands Regional High School
END:VEVENT
END:VCALENDAR
