BEGIN:VCALENDAR
VERSION:2.0
PRODID:-//ZContent.net//ZapCalLib 1.0//EN
CALSCALE:GREGORIAN
METHOD:PUBLISH
BEGIN:VEVENT
UID:69e5e8ba1a9f5@usbands.org
SUMMARY:Madison High School (ID)
DTSTART:20240928T100000
DTEND:20240928T150100
DTSTAMP:20260420T085002
LOCATION:Rexburg\, ID
DESCRIPTION:Madison High School (ID)
END:VEVENT
END:VCALENDAR
