BEGIN:VCALENDAR
VERSION:2.0
PRODID:-//ZContent.net//ZapCalLib 1.0//EN
CALSCALE:GREGORIAN
METHOD:PUBLISH
BEGIN:VEVENT
UID:69e5fbd26fa77@usbands.org
SUMMARY:Highland High School
DTSTART:20240921T110000
DTEND:20240921T150100
DTSTAMP:20260420T101130
LOCATION:Pocatello\, ID
DESCRIPTION:Highland High School
END:VEVENT
END:VCALENDAR
