BEGIN:VCALENDAR
VERSION:2.0
PRODID:-//ZContent.net//ZapCalLib 1.0//EN
CALSCALE:GREGORIAN
METHOD:PUBLISH
BEGIN:VEVENT
UID:69e6130c21514@usbands.org
SUMMARY:Southwestern Championships - World Class
DTSTART:20241106T183000
DTEND:20241106T183100
DTSTAMP:20260420T115036
LOCATION:Arlington\, TX
DESCRIPTION:Southwestern Championships - World Class
END:VEVENT
END:VCALENDAR
