BEGIN:VCALENDAR
VERSION:2.0
PRODID:-//ZContent.net//ZapCalLib 1.0//EN
CALSCALE:GREGORIAN
METHOD:PUBLISH
BEGIN:VEVENT
UID:69e5fbd779548@usbands.org
SUMMARY:West Chester East High School - CLINIC EVENT
DTSTART:20240907T120000
DTEND:20240907T190000
DTSTAMP:20260420T101135
LOCATION:West Chester\, PA
DESCRIPTION:West Chester East High School - CLINIC EVENT
END:VEVENT
END:VCALENDAR
