BEGIN:VCALENDAR
VERSION:2.0
PRODID:-//ZContent.net//ZapCalLib 1.0//EN
CALSCALE:GREGORIAN
METHOD:PUBLISH
BEGIN:VEVENT
UID:69e5fbd2c8ddb@usbands.org
SUMMARY:Rockville High School
DTSTART:20240914T140000
DTEND:20240914T190000
DTSTAMP:20260420T101130
LOCATION:Vernon\, CT
DESCRIPTION:Rockville High School
END:VEVENT
END:VCALENDAR
