BEGIN:VCALENDAR
VERSION:2.0
PRODID:-//ZContent.net//ZapCalLib 1.0//EN
CALSCALE:GREGORIAN
METHOD:PUBLISH
BEGIN:VEVENT
UID:69e5fbd1734c6@usbands.org
SUMMARY:Hanover Park High School
DTSTART:20240921T120000
DTEND:20240921T190000
DTSTAMP:20260420T101129
LOCATION:East Hanover\, NJ
DESCRIPTION:Hanover Park High School
END:VEVENT
END:VCALENDAR
