BEGIN:VCALENDAR
VERSION:2.0
PRODID:-//ZContent.net//ZapCalLib 1.0//EN
CALSCALE:GREGORIAN
METHOD:PUBLISH
BEGIN:VEVENT
UID:69e6130c2811b@usbands.org
SUMMARY:Pequannock Township High School
DTSTART:20240928T140000
DTEND:20240928T150100
DTSTAMP:20260420T115036
LOCATION:Pequannock Township\, NJ
DESCRIPTION:Pequannock Township High School
END:VEVENT
END:VCALENDAR
