BEGIN:VCALENDAR
VERSION:2.0
PRODID:-//ZContent.net//ZapCalLib 1.0//EN
CALSCALE:GREGORIAN
METHOD:PUBLISH
BEGIN:VEVENT
UID:69e6131cf1c23@usbands.org
SUMMARY:Unionville High School
DTSTART:20240928T130000
DTEND:20240928T150100
DTSTAMP:20260420T115052
LOCATION:Kennett Square\, PA
DESCRIPTION:Unionville High School
END:VEVENT
END:VCALENDAR
