BEGIN:VCALENDAR
VERSION:2.0
PRODID:-//ZContent.net//ZapCalLib 1.0//EN
CALSCALE:GREGORIAN
METHOD:PUBLISH
BEGIN:VEVENT
UID:69e6130c2a4cf@usbands.org
SUMMARY:Cheshire High School
DTSTART:20241005T150000
DTEND:20241005T150100
DTSTAMP:20260420T115036
LOCATION:Cheshire\, CT
DESCRIPTION:Cheshire High School
END:VEVENT
END:VCALENDAR
