BEGIN:VCALENDAR
VERSION:2.0
PRODID:-//ZContent.net//ZapCalLib 1.0//EN
CALSCALE:GREGORIAN
METHOD:PUBLISH
BEGIN:VEVENT
UID:69e5e8ca8f509@usbands.org
SUMMARY:Hamilton High School West
DTSTART:20241012T090000
DTEND:20241012T150100
DTSTAMP:20260420T085018
LOCATION:Trenton\, NJ
DESCRIPTION:Hamilton High School West
END:VEVENT
END:VCALENDAR
