BEGIN:VCALENDAR
VERSION:2.0
PRODID:-//ZContent.net//ZapCalLib 1.0//EN
CALSCALE:GREGORIAN
METHOD:PUBLISH
BEGIN:VEVENT
UID:69e605d533172@usbands.org
SUMMARY:Perkiomen Valley High School
DTSTART:20241013T120000
DTEND:20241013T150100
DTSTAMP:20260420T105413
LOCATION:Collegeville\, PA
DESCRIPTION:Perkiomen Valley High School
END:VEVENT
END:VCALENDAR
