BEGIN:VCALENDAR
VERSION:2.0
PRODID:-//ZContent.net//ZapCalLib 1.0//EN
CALSCALE:GREGORIAN
METHOD:PUBLISH
BEGIN:VEVENT
UID:69e5e8caa1e16@usbands.org
SUMMARY:Matawan Regional High School
DTSTART:20241102T120000
DTEND:20241102T120100
DTSTAMP:20260420T085018
LOCATION:Aberdeen Township\, NJ
DESCRIPTION:Matawan Regional High School
END:VEVENT
END:VCALENDAR
