BEGIN:VCALENDAR
VERSION:2.0
PRODID:-//ZContent.net//ZapCalLib 1.0//EN
CALSCALE:GREGORIAN
METHOD:PUBLISH
BEGIN:VEVENT
UID:69e5fbb60dc0f@usbands.org
SUMMARY:Steinert High School - CLINIC EVENT
DTSTART:20240914T090000
DTEND:20240914T190000
DTSTAMP:20260420T101102
LOCATION:Hamilton Township\, NJ
DESCRIPTION:Steinert High School - CLINIC EVENT
END:VEVENT
END:VCALENDAR
