BEGIN:VCALENDAR
VERSION:2.0
PRODID:-//ZContent.net//ZapCalLib 1.0//EN
CALSCALE:GREGORIAN
METHOD:PUBLISH
BEGIN:VEVENT
UID:69e5fbd1921bc@usbands.org
SUMMARY:New England Invitational
DTSTART:20240928T073000
DTEND:20240928T150100
DTSTAMP:20260420T101129
LOCATION:Hadley\, MA
DESCRIPTION:New England Invitational
END:VEVENT
END:VCALENDAR
