BEGIN:VCALENDAR
VERSION:2.0
PRODID:-//ZContent.net//ZapCalLib 1.0//EN
CALSCALE:GREGORIAN
METHOD:PUBLISH
BEGIN:VEVENT
UID:69e5e8c958ef0@usbands.org
SUMMARY:Lenape High School
DTSTART:20241013T120000
DTEND:20241013T180000
DTSTAMP:20260420T085017
LOCATION:Medford\, NJ
DESCRIPTION:Lenape High School
END:VEVENT
END:VCALENDAR
