BEGIN:VCALENDAR
VERSION:2.0
PRODID:-//ZContent.net//ZapCalLib 1.0//EN
CALSCALE:GREGORIAN
METHOD:PUBLISH
BEGIN:VEVENT
UID:69e5e518ac34d@usbands.org
SUMMARY:C.G. Conn Invitational
DTSTART:20240928T130000
DTEND:20240928T150100
DTSTAMP:20260420T083432
LOCATION:Elkhart\, IN
DESCRIPTION:C.G. Conn Invitational
END:VEVENT
END:VCALENDAR
