BEGIN:VCALENDAR
VERSION:2.0
PRODID:-//ZContent.net//ZapCalLib 1.0//EN
CALSCALE:GREGORIAN
METHOD:PUBLISH
BEGIN:VEVENT
UID:69e5e51783a1d@usbands.org
SUMMARY:Hill Country Regional
DTSTART:20241005T070000
DTEND:20241005T150100
DTSTAMP:20260420T083431
LOCATION:San Antonio\, TX
DESCRIPTION:Hill Country Regional
END:VEVENT
END:VCALENDAR
