BEGIN:VCALENDAR
VERSION:2.0
PRODID:-//ZContent.net//ZapCalLib 1.0//EN
CALSCALE:GREGORIAN
METHOD:PUBLISH
BEGIN:VEVENT
UID:69e5e51788ae1@usbands.org
SUMMARY:Kuna High School
DTSTART:20241012T110000
DTEND:20241012T200100
DTSTAMP:20260420T083431
LOCATION:Kuna\, ID
DESCRIPTION:Kuna High School
END:VEVENT
END:VCALENDAR
