BEGIN:VCALENDAR
VERSION:2.0
PRODID:-//ZContent.net//ZapCalLib 1.0//EN
CALSCALE:GREGORIAN
METHOD:PUBLISH
BEGIN:VEVENT
UID:69e5e8caf3b4c@usbands.org
SUMMARY:Caldwell High School
DTSTART:20241005T110000
DTEND:20241005T170100
DTSTAMP:20260420T085018
LOCATION:Caldwell\, ID
DESCRIPTION:Caldwell High School
END:VEVENT
END:VCALENDAR
