BEGIN:VCALENDAR
VERSION:2.0
PRODID:-//ZContent.net//ZapCalLib 1.0//EN
CALSCALE:GREGORIAN
METHOD:PUBLISH
BEGIN:VEVENT
UID:69e5e51837ef8@usbands.org
SUMMARY:STATS Georgia
DTSTART:20241026T130000
DTEND:20241026T190000
DTSTAMP:20260420T083432
LOCATION:Albany\, GA
DESCRIPTION:STATS Georgia
END:VEVENT
END:VCALENDAR
