BEGIN:VCALENDAR
VERSION:2.0
PRODID:-//ZContent.net//ZapCalLib 1.0//EN
CALSCALE:GREGORIAN
METHOD:PUBLISH
BEGIN:VEVENT
UID:69e5e8cb07a07@usbands.org
SUMMARY:STATS Championships
DTSTART:20241109T120000
DTEND:20241109T110100
DTSTAMP:20260420T085019
LOCATION:Huntsville\, AL
DESCRIPTION:STATS Championships
END:VEVENT
END:VCALENDAR
