BEGIN:VCALENDAR
VERSION:2.0
PRODID:-//ZContent.net//ZapCalLib 1.0//EN
CALSCALE:GREGORIAN
METHOD:PUBLISH
BEGIN:VEVENT
UID:69e5e517afece@usbands.org
SUMMARY:STATS South Carolina
DTSTART:20241012T070000
DTEND:20241012T140000
DTSTAMP:20260420T083431
LOCATION:Columbia\, SC
DESCRIPTION:STATS South Carolina
END:VEVENT
END:VCALENDAR
