BEGIN:VCALENDAR
VERSION:2.0
PRODID:-//ZContent.net//ZapCalLib 1.0//EN
CALSCALE:GREGORIAN
METHOD:PUBLISH
BEGIN:VEVENT
UID:69e5e8be31472@usbands.org
SUMMARY:A Class National Championships (IA\, IVA & VA)
DTSTART:20241103T070000
DTEND:20241103T150000
DTSTAMP:20260420T085006
LOCATION:Allentown\, PA
DESCRIPTION:A Class National Championships (IA\, IVA & VA)
END:VEVENT
END:VCALENDAR
