BEGIN:VCALENDAR
VERSION:2.0
PRODID:-//ZContent.net//ZapCalLib 1.0//EN
CALSCALE:GREGORIAN
METHOD:PUBLISH
BEGIN:VEVENT
UID:69e5fbd177b9b@usbands.org
SUMMARY:Southwestern Championships - Open Class
DTSTART:20241107T061500
DTEND:20241107T070100
DTSTAMP:20260420T101129
LOCATION:Arlington\, TX
DESCRIPTION:Southwestern Championships - Open Class
END:VEVENT
END:VCALENDAR
