BEGIN:VCALENDAR
VERSION:2.0
PRODID:-//ZContent.net//ZapCalLib 1.0//EN
CALSCALE:GREGORIAN
METHOD:PUBLISH
BEGIN:VEVENT
UID:69e5fc11afb8c@usbands.org
SUMMARY:West Milford High School
DTSTART:20250222T135000
DTEND:20250222T180000
DTSTAMP:20260420T101233
LOCATION:West Milford\, NJ
DESCRIPTION:West Milford High School
END:VEVENT
END:VCALENDAR
