BEGIN:VCALENDAR
VERSION:2.0
PRODID:-//ZContent.net//ZapCalLib 1.0//EN
CALSCALE:GREGORIAN
METHOD:PUBLISH
BEGIN:VEVENT
UID:69e5fc11c5eda@usbands.org
SUMMARY:Old Bridge High School
DTSTART:20250301T135000
DTEND:20250301T180000
DTSTAMP:20260420T101233
LOCATION:Matawan\, NJ
DESCRIPTION:Old Bridge High School
END:VEVENT
END:VCALENDAR
