BEGIN:VCALENDAR
VERSION:2.0
PRODID:-//ZContent.net//ZapCalLib 1.0//EN
CALSCALE:GREGORIAN
METHOD:PUBLISH
BEGIN:VEVENT
UID:69e6131bee83c@usbands.org
SUMMARY:Nottingham High School
DTSTART:20250308T135000
DTEND:20250308T180100
DTSTAMP:20260420T115051
LOCATION:Hamilton Township\, NJ
DESCRIPTION:Nottingham High School
END:VEVENT
END:VCALENDAR
