BEGIN:VCALENDAR
VERSION:2.0
PRODID:-//ZContent.net//ZapCalLib 1.0//EN
CALSCALE:GREGORIAN
METHOD:PUBLISH
BEGIN:VEVENT
UID:69e5fc10f1437@usbands.org
SUMMARY:Wayne Valley High School
DTSTART:20250315T135000
DTEND:20250315T180100
DTSTAMP:20260420T101232
LOCATION:Wayne\, NJ
DESCRIPTION:Wayne Valley High School
END:VEVENT
END:VCALENDAR
