BEGIN:VCALENDAR
VERSION:2.0
PRODID:-//ZContent.net//ZapCalLib 1.0//EN
CALSCALE:GREGORIAN
METHOD:PUBLISH
BEGIN:VEVENT
UID:69e5fbd16d8c3@usbands.org
SUMMARY:USBands Percussion Championship 2025
DTSTART:20250405T130000
DTEND:20250405T180000
DTSTAMP:20260420T101129
LOCATION:South Brunswick Township\, NJ
DESCRIPTION:USBands Percussion Championship 2025
END:VEVENT
END:VCALENDAR
