BEGIN:VCALENDAR
VERSION:2.0
PRODID:-//ZContent.net//ZapCalLib 1.0//EN
CALSCALE:GREGORIAN
METHOD:PUBLISH
BEGIN:VEVENT
UID:69e64ffe9e03a@usbands.org
SUMMARY:FloMarching Kick Off - Marching Ensemble/Band
DTSTART:20200926T000000
DTEND:20200926T235900
DTSTAMP:20260420T161038
LOCATION:
DESCRIPTION:FloMarching Kick Off - Marching Ensemble/Band
END:VEVENT
END:VCALENDAR
