BEGIN:VCALENDAR
VERSION:2.0
PRODID:-//ZContent.net//ZapCalLib 1.0//EN
CALSCALE:GREGORIAN
METHOD:PUBLISH
BEGIN:VEVENT
UID:69e650447d06c@usbands.org
SUMMARY:DeMoulin Invitational - Concert or Visual Ensemble/Standstill/Pep B
 and
DTSTART:20201010T000000
DTEND:20201010T235900
DTSTAMP:20260420T161148
LOCATION:
DESCRIPTION:DeMoulin Invitational - Concert or Visual Ensemble/Standstill/P
 ep Band
END:VEVENT
END:VCALENDAR
