BEGIN:VCALENDAR
VERSION:2.0
PRODID:-//ZContent.net//ZapCalLib 1.0//EN
CALSCALE:GREGORIAN
METHOD:PUBLISH
BEGIN:VEVENT
UID:69e650441bd8e@usbands.org
SUMMARY:Zildjian-Vic Firth Challenge - Marching Ensemble/Band
DTSTART:20201017T000000
DTEND:20201017T235900
DTSTAMP:20260420T161148
LOCATION:
DESCRIPTION:Zildjian-Vic Firth Challenge - Marching Ensemble/Band
END:VEVENT
END:VCALENDAR
