BEGIN:VCALENDAR
VERSION:2.0
PRODID:-//ZContent.net//ZapCalLib 1.0//EN
CALSCALE:GREGORIAN
METHOD:PUBLISH
BEGIN:VEVENT
UID:69e650441c637@usbands.org
SUMMARY:National Championships - Marching Ensemble/Band
DTSTART:20201107T000000
DTEND:20201107T235900
DTSTAMP:20260420T161148
LOCATION:
DESCRIPTION:National Championships - Marching Ensemble/Band
END:VEVENT
END:VCALENDAR
