BEGIN:VCALENDAR
VERSION:2.0
PRODID:-//ZContent.net//ZapCalLib 1.0//EN
CALSCALE:GREGORIAN
METHOD:PUBLISH
BEGIN:VEVENT
UID:69e65059d7a38@usbands.org
SUMMARY:V-USBands Grand Finale - Concert or Visual Ensemble/Standstill/Pep 
 Band
DTSTART:20201114T000000
DTEND:20201114T235900
DTSTAMP:20260420T161209
LOCATION:
DESCRIPTION:V-USBands Grand Finale - Concert or Visual Ensemble/Standstill/
 Pep Band
END:VEVENT
END:VCALENDAR
