BEGIN:VCALENDAR
VERSION:2.0
PRODID:-//ZContent.net//ZapCalLib 1.0//EN
CALSCALE:GREGORIAN
METHOD:PUBLISH
BEGIN:VEVENT
UID:69e650521b2c3@usbands.org
SUMMARY:Yamaha Cup - Concert or Visual Ensemble/Standstill/Pep Band
DTSTART:20201003T000000
DTEND:20201003T235900
DTSTAMP:20260420T161202
LOCATION:
DESCRIPTION:Yamaha Cup - Concert or Visual Ensemble/Standstill/Pep Band
END:VEVENT
END:VCALENDAR
