BEGIN:VCALENDAR
VERSION:2.0
PRODID:-//ZContent.net//ZapCalLib 1.0//EN
CALSCALE:GREGORIAN
METHOD:PUBLISH
BEGIN:VEVENT
UID:69e650443201b@usbands.org
SUMMARY:DeMoulin Invitational - Marching Ensemble/Band
DTSTART:20201010T000000
DTEND:20201010T235900
DTSTAMP:20260420T161148
LOCATION:
DESCRIPTION:DeMoulin Invitational - Marching Ensemble/Band
END:VEVENT
END:VCALENDAR
