BEGIN:VCALENDAR
VERSION:2.0
PRODID:-//ZContent.net//ZapCalLib 1.0//EN
CALSCALE:GREGORIAN
METHOD:PUBLISH
BEGIN:VEVENT
UID:69e64fffbaad1@usbands.org
SUMMARY:Zildjian-Vic Firth Challenge - Concert or Visual Ensemble/Standstil
 l/Pep Band
DTSTART:20201017T000000
DTEND:20201017T235900
DTSTAMP:20260420T161039
LOCATION:
DESCRIPTION:Zildjian-Vic Firth Challenge - Concert or Visual Ensemble/Stand
 still/Pep Band
END:VEVENT
END:VCALENDAR
