BEGIN:VCALENDAR
VERSION:2.0
PRODID:-//ZContent.net//ZapCalLib 1.0//EN
CALSCALE:GREGORIAN
METHOD:PUBLISH
BEGIN:VEVENT
UID:69e64ffe9c05f@usbands.org
SUMMARY:Remo Invitational -  Concert or Visual Ensemble/Standstill/Pep Band
DTSTART:20201024T000000
DTEND:20201024T235900
DTSTAMP:20260420T161038
LOCATION:
DESCRIPTION:Remo Invitational -  Concert or Visual Ensemble/Standstill/Pep 
 Band
END:VEVENT
END:VCALENDAR
