BEGIN:VCALENDAR
VERSION:2.0
PRODID:-//ZContent.net//ZapCalLib 1.0//EN
CALSCALE:GREGORIAN
METHOD:PUBLISH
BEGIN:VEVENT
UID:69e64ffe9ed72@usbands.org
SUMMARY:State Championships - Marching Ensemble/Band
DTSTART:20201031T000000
DTEND:20201031T235900
DTSTAMP:20260420T161038
LOCATION:
DESCRIPTION:State Championships - Marching Ensemble/Band
END:VEVENT
END:VCALENDAR
