BEGIN:VCALENDAR
VERSION:2.0
PRODID:-//ZContent.net//ZapCalLib 1.0//EN
CALSCALE:GREGORIAN
METHOD:PUBLISH
BEGIN:VEVENT
UID:69e65052354ae@usbands.org
SUMMARY:National Championships - Concert or Visual Ensemble/Standstill/Pep 
 Band
DTSTART:20201107T000000
DTEND:20201107T235900
DTSTAMP:20260420T161202
LOCATION:
DESCRIPTION:National Championships - Concert or Visual Ensemble/Standstill/
 Pep Band
END:VEVENT
END:VCALENDAR
